BEGIN:VCALENDAR
VERSION:2.0
PRODID:-//Somos Candidatura Veciñal - ECPv6.3.7//NONSGML v1.0//EN
CALSCALE:GREGORIAN
METHOD:PUBLISH
X-ORIGINAL-URL:https://www.somoscabanas.org
X-WR-CALDESC:Events for Somos Candidatura Veciñal
REFRESH-INTERVAL;VALUE=DURATION:PT1H
X-Robots-Tag:noindex
X-PUBLISHED-TTL:PT1H
BEGIN:VTIMEZONE
TZID:Europe/Madrid
BEGIN:DAYLIGHT
TZOFFSETFROM:+0100
TZOFFSETTO:+0200
TZNAME:CEST
DTSTART:20150329T010000
END:DAYLIGHT
BEGIN:STANDARD
TZOFFSETFROM:+0200
TZOFFSETTO:+0100
TZNAME:CET
DTSTART:20151025T010000
END:STANDARD
END:VTIMEZONE
BEGIN:VEVENT
DTSTART;TZID=Europe/Madrid:20151217T193000
DTEND;TZID=Europe/Madrid:20151217T210000
DTSTAMP:20260421T173006
CREATED:20151216T172037Z
LAST-MODIFIED:20151216T172037Z
UID:268-1450380600-1450386000@www.somoscabanas.org
SUMMARY:Pleno extraordinario\, 17 de nadal ás 19.30 horas
DESCRIPTION:Tratará os seguintes asuntos: \n\nDitame sobre expediente de responsabilidade patrimonial do Penso 1ª Fase\nDitame sobre expediente a Viaqua
URL:https://www.somoscabanas.org/axenda/pleno-extraordinario-17-de-nadal-as-19-30-horas/
END:VEVENT
BEGIN:VEVENT
DTSTART;TZID=Europe/Madrid:20151214T193000
DTEND;TZID=Europe/Madrid:20151214T210000
DTSTAMP:20260421T173006
CREATED:20151210T165357Z
LAST-MODIFIED:20151210T165357Z
UID:263-1450121400-1450126800@www.somoscabanas.org
SUMMARY:Comisión de Facenda
DESCRIPTION:Tratará os seguintes asuntos: \n\nDitame sobre expediente de responsabilidade patrimonial do Penso 1ª Fase\nDitame sobre expediente a Viaqua\n\n  \n 
URL:https://www.somoscabanas.org/axenda/comision-de-facenda/
LOCATION:Unnamed Venue\, Cabanas\, A Coruña\, 15621\, Spain
END:VEVENT
BEGIN:VEVENT
DTSTART;TZID=Europe/Madrid:20150128T193000
DTEND;TZID=Europe/Madrid:20150128T220000
DTSTAMP:20260421T173006
CREATED:20151210T164550Z
LAST-MODIFIED:20151210T164550Z
UID:256-1422473400-1422482400@www.somoscabanas.org
SUMMARY:Pleno do Concello
DESCRIPTION:
URL:https://www.somoscabanas.org/axenda/pleno-do-concello/
LOCATION:Unnamed Venue\, Cabanas\, A Coruña
END:VEVENT
END:VCALENDAR